BEGIN:VCALENDAR
VERSION:2.0
PRODID:-//Flo Peters Gallery - ECPv6.12.0.1//NONSGML v1.0//EN
CALSCALE:GREGORIAN
METHOD:PUBLISH
X-ORIGINAL-URL:https://flopetersgallery.com
X-WR-CALDESC:Veranstaltungen für Flo Peters Gallery
REFRESH-INTERVAL;VALUE=DURATION:PT1H
X-Robots-Tag:noindex
X-PUBLISHED-TTL:PT1H
BEGIN:VTIMEZONE
TZID:UTC
BEGIN:STANDARD
TZOFFSETFROM:+0000
TZOFFSETTO:+0000
TZNAME:UTC
DTSTART:20190101T000000
END:STANDARD
END:VTIMEZONE
BEGIN:VEVENT
DTSTART;TZID=UTC:20201208T120000
DTEND;TZID=UTC:20210206T160000
DTSTAMP:20260425T150533
CREATED:20201208T134032Z
LAST-MODIFIED:20210129T120145Z
UID:10232-1607428800-1612627200@flopetersgallery.com
SUMMARY:WINTER-SHOW
DESCRIPTION:Wir beschließen dieses ereignisreiche\, herausfordernde Jahr mit der Gruppenausstellung WINTER-SHOW.Gezeigt werden ab sofort bis zum 06. Februar 2021 Photographien u.a. von Ragnar Axelsson\, Steve McCurry\, Slim Aarons\, Christopher Simon Sykes\, Silke Lauffs\, Mat Hennek und Herbert G. Ponting.             						\n				\n				\n				\n					\n			\n		\n				\n				\n					\n		\n					\n		\n				\n						\n					\n			\n						\n				\n					\n		\n			\n                \n				\n											\n						\n							\n								\n									\n									\n									\n										Slim Aarons. 'Lech Ice Bar'\, Lech\, Austria\, 1960\n									\n									\n									\n								\n								\n								\n							\n						\n												\n						\n							\n								\n									\n									\n									\n										Herbert G. Ponting. 'Beautiful broken Ice Reflections and Terra Nova'\, 07.01.1911 Platinum Palladium Print \n									\n									\n									\n								\n								\n								\n							\n						\n												\n						\n							\n								\n									\n									\n									\n										Ragnar Axelsson. \nDogs on a Chain' \nSermiliqaq\, East Greenland\, 1997\n									\n									\n									\n								\n								\n								\n							\n						\n												\n						\n							\n								\n									\n									\n									\n										© Herbert G. Ponting\n									\n									\n									\n								\n								\n								\n							\n						\n												\n						\n							\n								\n									\n									\n									\n										Steve McCurry. 'Times Square in Winter'\, New York\, 1994. Fuji Flex Crystal Archive Print\n									\n									\n									\n								\n								\n								\n							\n						\n												\n						\n							\n								\n									\n									\n									\n										Max Scheler. \n'German immigrant family Hufnagel with presents and nylon tree at the beach'\,\nAustralia near Sydney\, 1959.
URL:https://flopetersgallery.com/exhibitions/winter-show/
LOCATION:Flo Peters Gallery\, Burchardstraße 13\, Hamburg\, 20095\, Deutschland
CATEGORIES:Ausstellung
ATTACH;FMTTYPE=image/jpeg:https://flopetersgallery.com/wp-content/uploads/2020/12/Bildschirmfoto-2020-12-08-um-15.34.31.jpeg
END:VEVENT
BEGIN:VEVENT
DTSTART;TZID=UTC:20201024T120000
DTEND;TZID=UTC:20201127T160000
DTSTAMP:20260425T150533
CREATED:20201020T110239Z
LAST-MODIFIED:20201107T122709Z
UID:9528-1603540800-1606492800@flopetersgallery.com
SUMMARY:DIE NATUR ALS ARCHITEKT
DESCRIPTION:Wir beschließen dieses ereignisreiche\, herausfordernde Jahr mit der Gruppenausstellung WINTER-SHOW.Gezeigt werden ab sofort bis zum 06. Februar 2021 Photographien u.a. von Ragnar Axelsson\, Steve McCurry\, Slim Aarons\, Christopher Simon Sykes\, Silke Lauffs\, Mat Hennek und Herbert G. Ponting.             						\n				\n				\n				\n					\n			\n		\n				\n				\n					\n		\n					\n		\n				\n						\n					\n			\n						\n				\n					\n		\n			\n                \n				\n											\n						\n							\n								\n									\n									\n									\n										Ragnar Axelsson. \nDogs on a Chain' \nSermiliqaq\, East Greenland\, 1997\n									\n									\n									\n								\n								\n								\n							\n						\n												\n						\n							\n								\n									\n									\n									\n										© Herbert G. Ponting\n									\n									\n									\n								\n								\n								\n							\n						\n												\n						\n							\n								\n									\n									\n									\n										Slim Aarons. 'Lech Ice Bar'\, Lech\, Austria\, 1960\n									\n									\n									\n								\n								\n								\n							\n						\n												\n						\n							\n								\n									\n									\n									\n										Steve McCurry. 'Times Square in Winter'\, New York\, 1994. Fuji Flex Crystal Archive Print\n									\n									\n									\n								\n								\n								\n							\n						\n												\n						\n							\n								\n									\n									\n									\n										Max Scheler. \n'German immigrant family Hufnagel with presents and nylon tree at the beach'\,\nAustralia near Sydney\, 1959. \n									\n									\n									\n								\n								\n								\n							\n						\n												\n						\n							\n								\n									\n									\n									\n										Herbert G. Ponting. 'Beautiful broken Ice Reflections and Terra Nova'\, 07.01.1911 Platinum Palladium Print
URL:https://flopetersgallery.com/exhibitions/die-natur-als-architekt/
LOCATION:Flo Peters Gallery\, Burchardstraße 13\, Hamburg\, 20095\, Deutschland
CATEGORIES:Ausstellung
ATTACH;FMTTYPE=image/jpeg:https://flopetersgallery.com/wp-content/uploads/2020/10/David-Parker.-New-Desert-Myths-XIII-scaled.jpeg
END:VEVENT
BEGIN:VEVENT
DTSTART;TZID=UTC:20200711T120000
DTEND;TZID=UTC:20200926T180000
DTSTAMP:20260425T150533
CREATED:20200708T132315Z
LAST-MODIFIED:20200825T130657Z
UID:9017-1594468800-1601143200@flopetersgallery.com
SUMMARY:SUMMER EXHIBITION
DESCRIPTION:Wir beschließen dieses ereignisreiche\, herausfordernde Jahr mit der Gruppenausstellung WINTER-SHOW.Gezeigt werden ab sofort bis zum 06. Februar 2021 Photographien u.a. von Ragnar Axelsson\, Steve McCurry\, Slim Aarons\, Christopher Simon Sykes\, Silke Lauffs\, Mat Hennek und Herbert G. Ponting.             						\n				\n				\n				\n					\n			\n		\n				\n				\n					\n		\n					\n		\n				\n						\n					\n			\n						\n				\n					\n		\n			\n                \n				\n											\n						\n							\n								\n									\n									\n									\n										Herbert G. Ponting. 'Beautiful broken Ice Reflections and Terra Nova'\, 07.01.1911 Platinum Palladium Print \n									\n									\n									\n								\n								\n								\n							\n						\n												\n						\n							\n								\n									\n									\n									\n										© Herbert G. Ponting\n									\n									\n									\n								\n								\n								\n							\n						\n												\n						\n							\n								\n									\n									\n									\n										Ragnar Axelsson. \nDogs on a Chain' \nSermiliqaq\, East Greenland\, 1997\n									\n									\n									\n								\n								\n								\n							\n						\n												\n						\n							\n								\n									\n									\n									\n										Slim Aarons. 'Lech Ice Bar'\, Lech\, Austria\, 1960\n									\n									\n									\n								\n								\n								\n							\n						\n												\n						\n							\n								\n									\n									\n									\n										Steve McCurry. 'Times Square in Winter'\, New York\, 1994. Fuji Flex Crystal Archive Print\n									\n									\n									\n								\n								\n								\n							\n						\n												\n						\n							\n								\n									\n									\n									\n										Max Scheler. \n'German immigrant family Hufnagel with presents and nylon tree at the beach'\,\nAustralia near Sydney\, 1959.
URL:https://flopetersgallery.com/exhibitions/summer-exhibition/
LOCATION:Flo Peters Gallery\, Burchardstraße 13\, Hamburg\, 20095\, Deutschland
CATEGORIES:Ausstellung
ATTACH;FMTTYPE=image/jpeg:https://flopetersgallery.com/wp-content/uploads/2020/07/HERBERT_LIST_Different_Interest_-Drifting_apart_lpr.jpg
END:VEVENT
BEGIN:VEVENT
DTSTART;TZID=UTC:20200325T120000
DTEND;TZID=UTC:20200630T180000
DTSTAMP:20260425T150533
CREATED:20200304T133044Z
LAST-MODIFIED:20200430T113250Z
UID:7204-1585137600-1593540000@flopetersgallery.com
SUMMARY:DER PHILOSOPH UNTER DEN FOTOGRAFEN
DESCRIPTION:Wir beschließen dieses ereignisreiche\, herausfordernde Jahr mit der Gruppenausstellung WINTER-SHOW.Gezeigt werden ab sofort bis zum 06. Februar 2021 Photographien u.a. von Ragnar Axelsson\, Steve McCurry\, Slim Aarons\, Christopher Simon Sykes\, Silke Lauffs\, Mat Hennek und Herbert G. Ponting.             						\n				\n				\n				\n					\n			\n		\n				\n				\n					\n		\n					\n		\n				\n						\n					\n			\n						\n				\n					\n		\n			\n                \n				\n											\n						\n							\n								\n									\n									\n									\n										Herbert G. Ponting. 'Beautiful broken Ice Reflections and Terra Nova'\, 07.01.1911 Platinum Palladium Print \n									\n									\n									\n								\n								\n								\n							\n						\n												\n						\n							\n								\n									\n									\n									\n										Slim Aarons. 'Lech Ice Bar'\, Lech\, Austria\, 1960\n									\n									\n									\n								\n								\n								\n							\n						\n												\n						\n							\n								\n									\n									\n									\n										© Herbert G. Ponting\n									\n									\n									\n								\n								\n								\n							\n						\n												\n						\n							\n								\n									\n									\n									\n										Max Scheler. \n'German immigrant family Hufnagel with presents and nylon tree at the beach'\,\nAustralia near Sydney\, 1959. \n									\n									\n									\n								\n								\n								\n							\n						\n												\n						\n							\n								\n									\n									\n									\n										Ragnar Axelsson. \nDogs on a Chain' \nSermiliqaq\, East Greenland\, 1997\n									\n									\n									\n								\n								\n								\n							\n						\n												\n						\n							\n								\n									\n									\n									\n										Steve McCurry. 'Times Square in Winter'\, New York\, 1994. Fuji Flex Crystal Archive Print
URL:https://flopetersgallery.com/exhibitions/der-philosoph-unter-den-fotografen/
LOCATION:Flo Peters Gallery\, Burchardstraße 13\, Hamburg\, 20095\, Deutschland
CATEGORIES:Ausstellung
ATTACH;FMTTYPE=image/jpeg:https://flopetersgallery.com/wp-content/uploads/2020/03/M-US-NYC-014.jpg
END:VEVENT
BEGIN:VEVENT
DTSTART;TZID=UTC:20191210T120000
DTEND;TZID=UTC:20200314T180000
DTSTAMP:20260425T150533
CREATED:20190530T123145Z
LAST-MODIFIED:20200221T132323Z
UID:263-1575979200-1584208800@flopetersgallery.com
SUMMARY:SÜDAMERIKA
DESCRIPTION:Wir beschließen dieses ereignisreiche\, herausfordernde Jahr mit der Gruppenausstellung WINTER-SHOW.Gezeigt werden ab sofort bis zum 06. Februar 2021 Photographien u.a. von Ragnar Axelsson\, Steve McCurry\, Slim Aarons\, Christopher Simon Sykes\, Silke Lauffs\, Mat Hennek und Herbert G. Ponting.             						\n				\n				\n				\n					\n			\n		\n				\n				\n					\n		\n					\n		\n				\n						\n					\n			\n						\n				\n					\n		\n			\n                \n				\n											\n						\n							\n								\n									\n									\n									\n										Herbert G. Ponting. 'Beautiful broken Ice Reflections and Terra Nova'\, 07.01.1911 Platinum Palladium Print \n									\n									\n									\n								\n								\n								\n							\n						\n												\n						\n							\n								\n									\n									\n									\n										Ragnar Axelsson. \nDogs on a Chain' \nSermiliqaq\, East Greenland\, 1997\n									\n									\n									\n								\n								\n								\n							\n						\n												\n						\n							\n								\n									\n									\n									\n										Steve McCurry. 'Times Square in Winter'\, New York\, 1994. Fuji Flex Crystal Archive Print\n									\n									\n									\n								\n								\n								\n							\n						\n												\n						\n							\n								\n									\n									\n									\n										Slim Aarons. 'Lech Ice Bar'\, Lech\, Austria\, 1960\n									\n									\n									\n								\n								\n								\n							\n						\n												\n						\n							\n								\n									\n									\n									\n										© Herbert G. Ponting\n									\n									\n									\n								\n								\n								\n							\n						\n												\n						\n							\n								\n									\n									\n									\n										Max Scheler. \n'German immigrant family Hufnagel with presents and nylon tree at the beach'\,\nAustralia near Sydney\, 1959.
URL:https://flopetersgallery.com/exhibitions/suedamerika-f-c-gundlach/
LOCATION:Flo Peters Gallery\, Burchardstraße 13\, Hamburg\, 20095\, Deutschland
CATEGORIES:Ausstellung
ATTACH;FMTTYPE=image/png:https://flopetersgallery.com/wp-content/uploads/2019/05/Screenshot-2019-12-06-at-16.46.43.png
END:VEVENT
BEGIN:VEVENT
DTSTART;VALUE=DATE:20190918
DTEND;VALUE=DATE:20191027
DTSTAMP:20260425T150533
CREATED:20190531T061521Z
LAST-MODIFIED:20200202T144418Z
UID:283-1568764800-1572134399@flopetersgallery.com
SUMMARY:"NEW ICONS"
DESCRIPTION:Wir beschließen dieses ereignisreiche\, herausfordernde Jahr mit der Gruppenausstellung WINTER-SHOW.Gezeigt werden ab sofort bis zum 06. Februar 2021 Photographien u.a. von Ragnar Axelsson\, Steve McCurry\, Slim Aarons\, Christopher Simon Sykes\, Silke Lauffs\, Mat Hennek und Herbert G. Ponting.             						\n				\n				\n				\n					\n			\n		\n				\n				\n					\n		\n					\n		\n				\n						\n					\n			\n						\n				\n					\n		\n			\n                \n				\n											\n						\n							\n								\n									\n									\n									\n										© Herbert G. Ponting\n									\n									\n									\n								\n								\n								\n							\n						\n												\n						\n							\n								\n									\n									\n									\n										Steve McCurry. 'Times Square in Winter'\, New York\, 1994. Fuji Flex Crystal Archive Print\n									\n									\n									\n								\n								\n								\n							\n						\n												\n						\n							\n								\n									\n									\n									\n										Herbert G. Ponting. 'Beautiful broken Ice Reflections and Terra Nova'\, 07.01.1911 Platinum Palladium Print \n									\n									\n									\n								\n								\n								\n							\n						\n												\n						\n							\n								\n									\n									\n									\n										Slim Aarons. 'Lech Ice Bar'\, Lech\, Austria\, 1960\n									\n									\n									\n								\n								\n								\n							\n						\n												\n						\n							\n								\n									\n									\n									\n										Max Scheler. \n'German immigrant family Hufnagel with presents and nylon tree at the beach'\,\nAustralia near Sydney\, 1959. \n									\n									\n									\n								\n								\n								\n							\n						\n												\n						\n							\n								\n									\n									\n									\n										Ragnar Axelsson. \nDogs on a Chain' \nSermiliqaq\, East Greenland\, 1997
URL:https://flopetersgallery.com/exhibitions/new-icons-steve-mccurry/
LOCATION:Flo Peters Gallery\, Burchardstraße 13\, Hamburg\, 20095\, Deutschland
CATEGORIES:Ausstellung
ATTACH;FMTTYPE=image/jpeg:https://flopetersgallery.com/wp-content/uploads/2019/05/f2c05e0eef424d357c097b967c1fe3b7-scaled.jpg
END:VEVENT
END:VCALENDAR